BEGIN:VCALENDAR
VERSION:2.0
PRODID:-//Laborers Local 66 - ECPv6.15.18//NONSGML v1.0//EN
CALSCALE:GREGORIAN
METHOD:PUBLISH
X-ORIGINAL-URL:https://www.local66.org
X-WR-CALDESC:Events for Laborers Local 66
REFRESH-INTERVAL;VALUE=DURATION:PT1H
X-Robots-Tag:noindex
X-PUBLISHED-TTL:PT1H
BEGIN:VTIMEZONE
TZID:UTC
BEGIN:STANDARD
TZOFFSETFROM:+0000
TZOFFSETTO:+0000
TZNAME:UTC
DTSTART:20250101T000000
END:STANDARD
END:VTIMEZONE
BEGIN:VEVENT
DTSTART;TZID=UTC:20260326T180000
DTEND;TZID=UTC:20260326T193000
DTSTAMP:20260419T141858
CREATED:20251216T205613Z
LAST-MODIFIED:20251216T205613Z
UID:10001662-1774548000-1774553400@www.local66.org
SUMMARY:UNION MEETING
DESCRIPTION:
URL:https://www.local66.org/event/union-meeting-6/
ATTACH;FMTTYPE=image/jpeg:https://www.local66.org/wp-content/uploads/2025/09/Union-Meeting2-scaled.jpg
END:VEVENT
END:VCALENDAR